BEGIN:VCALENDAR
VERSION:2.0
PRODID:-//Karrieresenter Østfold - ECPv6.13.2//NONSGML v1.0//EN
CALSCALE:GREGORIAN
METHOD:PUBLISH
X-WR-CALNAME:Karrieresenter Østfold
X-ORIGINAL-URL:https://karriereostfold.no
X-WR-CALDESC:Arrangement for Karrieresenter Østfold
REFRESH-INTERVAL;VALUE=DURATION:PT1H
X-Robots-Tag:noindex
X-PUBLISHED-TTL:PT1H
BEGIN:VTIMEZONE
TZID:Europe/Oslo
BEGIN:DAYLIGHT
TZOFFSETFROM:+0100
TZOFFSETTO:+0200
TZNAME:CEST
DTSTART:20230326T010000
END:DAYLIGHT
BEGIN:STANDARD
TZOFFSETFROM:+0200
TZOFFSETTO:+0100
TZNAME:CET
DTSTART:20231029T010000
END:STANDARD
END:VTIMEZONE
BEGIN:VEVENT
DTSTART;TZID=Europe/Oslo:20230914T130000
DTEND;TZID=Europe/Oslo:20230914T143000
DTSTAMP:20260422T124421
CREATED:20221219T125803Z
LAST-MODIFIED:20230524T123502Z
UID:5762-1694696400-1694701800@karriereostfold.no
SUMMARY:Bli en god jobbsøker | Webinar
DESCRIPTION:Om kurset\nEr du jobbsøker og ønsker å lære mer om jobbsøkerprosessen? Karriereveilederne deler nyttige tips om hvordan skrive og tilpasse CV og søknad\, og hvor du finner jobbene som passer til din kompetanse. Du får også gode tips til hvordan du kan mestre intervjusituasjonen. Kurset kombinerer foredrag\, dialog og øvelser. \nFor å få en ny jobb\, er det en fordel at du kjenner til de ulike fasene i jobbsøkerprosessen. \n\nFinne jobbene\nForarbeid\nCV og søknad\nJobbintervjuet\n\nVi ved Karrieresenter Østfold har kompetanse om arbeidsmarkedet og jobbsøking\, lang erfaring med kursvirksomhet og veiledning av mennesker i en jobbsøkerprosess. \nHåper vi ser deg\, og velkommen på kurs. \nPåmeldingsfrist: En dag før webinar \n\n		Meld deg på her\n	\n\n  \n\n\n\n	\n				\n			\n			\n\n\n\n\n	\n				\n			\n			\n\n	\n		\n\nOm kursholderen\n		\n\n	\n	\n\n		\n				\n\n	\n\n	\n\n	\n				\n			\n			\n\nPredrag Grozdanic har jobbet som karriereveileder ved Karrieresenter helt fra starten\, siden 2009. \nHan er jurist\, opprinnelig fra Bosnia og Hercegovina\, med videreutdanning i bl.a. velferdsrett og karriereveiledning. Ved Karrieresenter Østfold jobber han både med individuelle veiledninger og forskjellige kurs\, foredrag\, workshop med temaer som flerkulturell veiledning\, etikk og alt om jobbsøking.
URL:https://karriereostfold.no/kurs/bli-en-god-jobbsoker-webinar-14-09-2023/
LOCATION:Digitalt
ATTACH;FMTTYPE=image/jpeg:https://karriereostfold.no/wp-content/uploads/2022/12/webinar-jobbsokerkurs.jpg
END:VEVENT
BEGIN:VEVENT
DTSTART;TZID=Europe/Oslo:20230921T130000
DTEND;TZID=Europe/Oslo:20230921T143000
DTSTAMP:20260422T124421
CREATED:20230619T125032Z
LAST-MODIFIED:20230904T105220Z
UID:7693-1695301200-1695306600@karriereostfold.no
SUMMARY:Jobbintervjukurs: Forberedt og overbevisende
DESCRIPTION:Et jobbintervju er en avgjørende mulighet for deg som jobbsøker å overbevise arbeidsgiveren om at du er den rette kandidaten for stillingen. Kurset er for deg som er i jobbsøkerfasen og ønsker å forbedre dine ferdigheter og øke sjansene for å lykkes under et intervju. Sammen går vi gjennom hva du kan forvente å møte i en intervjuprosess og gi deltakerne nødvendig kunnskap\, innsikt og praksis for å kunne presentere seg på en profesjonell og overbevisende måte under et intervju. \nKarrieresenter Østfold har god kunnskap om rekrutteringsprosesser og vet hva som er viktig å fokusere på i en intervjusituasjon. Vi har lang erfaring med kursvirksomhet og veiledning av mennesker i en jobbsøkerprosess. \nHåper vi ser deg\, og velkommen på kurs. \n  \nPåmeldingsfrist: En dag før webinar \n  \nKurset er fult\, send mail til karriere.ostfold@viken.no dersom du ønsker å stå på venteliste \n  \n\n\n\n	\n				\n			\n			\n\n\n\n\n	\n				\n			\n			\n\n	\n		\n\nOm kursholderen\n		\n\n	\n	\n\n		\n				\n\n	\n\n	\n\n	\n				\n			\n			\n\nPredrag Grozdanic har jobbet som karriereveileder ved Karrieresenter helt fra starten\, siden 2009. \nHan er jurist\, opprinnelig fra Bosnia og Hercegovina\, med videreutdanning i bl.a. velferdsrett og karriereveiledning. Ved Karrieresenter Østfold jobber han både med individuelle veiledninger og forskjellige kurs\, foredrag\, workshop med temaer som flerkulturell veiledning\, etikk og alt om jobbsøking.
URL:https://karriereostfold.no/kurs/jobbintervjukurs-forberedt-og-overbevisende/
LOCATION:Karrieresenter Østfold\, Kirkegata 69\, Sarpsborg\, 1721\, Norge
ORGANIZER;CN="Karrieresenter %C3%98stfold":MAILTO:karriere.ostfold@viken.no
END:VEVENT
END:VCALENDAR