BEGIN:VCALENDAR
VERSION:2.0
PRODID:-//Karrieresenter Østfold - ECPv6.13.2//NONSGML v1.0//EN
CALSCALE:GREGORIAN
METHOD:PUBLISH
X-ORIGINAL-URL:https://karriereostfold.no
X-WR-CALDESC:Arrangement for Karrieresenter Østfold
REFRESH-INTERVAL;VALUE=DURATION:PT1H
X-Robots-Tag:noindex
X-PUBLISHED-TTL:PT1H
BEGIN:VTIMEZONE
TZID:Europe/Oslo
BEGIN:DAYLIGHT
TZOFFSETFROM:+0100
TZOFFSETTO:+0200
TZNAME:CEST
DTSTART:20230326T010000
END:DAYLIGHT
BEGIN:STANDARD
TZOFFSETFROM:+0200
TZOFFSETTO:+0100
TZNAME:CET
DTSTART:20231029T010000
END:STANDARD
END:VTIMEZONE
BEGIN:VEVENT
DTSTART;TZID=Europe/Oslo:20231012T130000
DTEND;TZID=Europe/Oslo:20231012T143000
DTSTAMP:20260422T110932
CREATED:20221219T125911Z
LAST-MODIFIED:20230524T123516Z
UID:5764-1697115600-1697121000@karriereostfold.no
SUMMARY:Bli en god jobbsøker | Webinar
DESCRIPTION:Om kurset\nEr du jobbsøker og ønsker å lære mer om jobbsøkerprosessen? Karriereveilederne deler nyttige tips om hvordan skrive og tilpasse CV og søknad\, og hvor du finner jobbene som passer til din kompetanse. Du får også gode tips til hvordan du kan mestre intervjusituasjonen. Kurset kombinerer foredrag\, dialog og øvelser. \nFor å få en ny jobb\, er det en fordel at du kjenner til de ulike fasene i jobbsøkerprosessen. \n\nFinne jobbene\nForarbeid\nCV og søknad\nJobbintervjuet\n\nVi ved Karrieresenter Østfold har kompetanse om arbeidsmarkedet og jobbsøking\, lang erfaring med kursvirksomhet og veiledning av mennesker i en jobbsøkerprosess. \nHåper vi ser deg\, og velkommen på kurs. \nPåmeldingsfrist: En dag før webinar \n\n		Meld deg på her\n	\n\n  \n\n\n\n	\n				\n			\n			\n\n\n\n\n	\n				\n			\n			\n\n	\n		\n\nOm kursholderen\n		\n\n	\n	\n\n		\n				\n\n	\n\n	\n\n	\n				\n			\n			\n\nPredrag Grozdanic har jobbet som karriereveileder ved Karrieresenter helt fra starten\, siden 2009. \nHan er jurist\, opprinnelig fra Bosnia og Hercegovina\, med videreutdanning i bl.a. velferdsrett og karriereveiledning. Ved Karrieresenter Østfold jobber han både med individuelle veiledninger og forskjellige kurs\, foredrag\, workshop med temaer som flerkulturell veiledning\, etikk og alt om jobbsøking.
URL:https://karriereostfold.no/kurs/bli-en-god-jobbsoker-webinar-12-10-2023/
LOCATION:Digitalt
ATTACH;FMTTYPE=image/jpeg:https://karriereostfold.no/wp-content/uploads/2022/12/webinar-jobbsokerkurs.jpg
END:VEVENT
END:VCALENDAR