BEGIN:VCALENDAR
VERSION:2.0
PRODID:-//Karrieresenter Østfold - ECPv6.13.2//NONSGML v1.0//EN
CALSCALE:GREGORIAN
METHOD:PUBLISH
X-WR-CALNAME:Karrieresenter Østfold
X-ORIGINAL-URL:https://karriereostfold.no
X-WR-CALDESC:Arrangement for Karrieresenter Østfold
REFRESH-INTERVAL;VALUE=DURATION:PT1H
X-Robots-Tag:noindex
X-PUBLISHED-TTL:PT1H
BEGIN:VTIMEZONE
TZID:Europe/Oslo
BEGIN:DAYLIGHT
TZOFFSETFROM:+0100
TZOFFSETTO:+0200
TZNAME:CEST
DTSTART:20240331T010000
END:DAYLIGHT
BEGIN:STANDARD
TZOFFSETFROM:+0200
TZOFFSETTO:+0100
TZNAME:CET
DTSTART:20241027T010000
END:STANDARD
END:VTIMEZONE
BEGIN:VEVENT
DTSTART;TZID=Europe/Oslo:20240208T130000
DTEND;TZID=Europe/Oslo:20240208T143000
DTSTAMP:20260420T050150
CREATED:20231219T122202Z
LAST-MODIFIED:20240108T142207Z
UID:8196-1707397200-1707402600@karriereostfold.no
SUMMARY:Står du overfor utdannings- eller yrkesvalg | Webinar
DESCRIPTION:Om kurset\nGjennom livet opplever vi mange ulike overganger og valgsituasjoner. Du har nok allerede erfart at valg må tas mange ganger\, og at overganger stadig skjer. Å ta valg og håndtere endringer er en helt vesentlig del av vår karriereutvikling\, og som det er viktig av vi mestrer. Dette webinaret er for deg som er i  en valgprosess. Du vil få kunnskap om en valgprosessmodell og verktøy som vi håper kan hjelpe deg til å ta informerte\, reflekterte og bevisste utdannings- eller yrkesvalg. \nPåmeldingsfrist: En dag før webinar \n\n		Meld deg på her\n	\n\n  \n\n\n\n	\n				\n			\n			\n\n\n\n\n	\n				\n			\n			\n\n	\n		\n\nOm kursholderen\n		\n\n	\n	\n\n		\n				\n\n	\n\n	\n\n	\n				\n			\n			\n\nJan Ole Kristiansen har jobbet som karriereveileder ved Karrieresenter Østfold siden 2009. Han har bakgrunn fra Manpower som kunde- og personalkonsulent\, som veileder på Arbeidskontoret\, som konsulent i vikartjenesten i Aetat og rådgiver i Nav. \nVed Karrieresenter Østfold jobber han med ulike karrieretjeneste hvor individuelle veiledninger er en viktig oppgave. Han holder også ulike kurs/foredrag for både veisøkere og veiledere/rådgivere. \nJan Ole motiveres av at han hver dag kan bidra til at våre kunder gjør gode yrkes- og utdanningsvalg.
URL:https://karriereostfold.no/kurs/star-du-overfor-utdannings-eller-yrkesvalg-webinar/
LOCATION:Digitalt
ATTACH;FMTTYPE=image/jpeg:https://karriereostfold.no/wp-content/uploads/2022/12/webinar-jobbsokerkurs.jpg
END:VEVENT
BEGIN:VEVENT
DTSTART;TZID=Europe/Oslo:20240213T130000
DTEND;TZID=Europe/Oslo:20240213T143000
DTSTAMP:20260420T050150
CREATED:20231219T124812Z
LAST-MODIFIED:20240108T142232Z
UID:8201-1707829200-1707834600@karriereostfold.no
SUMMARY:Utdanningsveier og muligheter | Webinar
DESCRIPTION:Om kurset\nØnsker du å finne ut hvilke utdanningsrettigheter og muligheter du har\, men mangler kjennskap til alle forskjellige veier til kompetanseheving? Mulighetene er mange! I dette webinar vil vi snakke om voksenrett og voksenopplæring\, de nye rettighetene i opplæringsloven\, ulike fagskoletilbud\, korte yrkesrettede kurs\, muligheter ved høyskoler og universiteter\, generell studiekompetanse for voksne\, opptak til høyere utdanning basert på realkompetanse\, samt ulike former for videre- og etterutdanning. Vi kommer også inne på utdanningsrettigheter og muligheter for deg som har en utenlandsk utdanningsbakgrunn. \nPåmeldingsfrist: En dag før webinar \n\n		Meld deg på her\n	\n\n  \n\n\n\n	\n				\n			\n			\n\n\n\n\n	\n				\n			\n			\n\n	\n		\n\nOm kursholderen\n		\n\n	\n	\n\n		\n				\n\n	\n\n	\n\n	\n				\n			\n			\n\nPredrag Grozdanic har jobbet som karriereveileder ved Karrieresenter helt fra starten\, siden 2009. \nHan er jurist\, opprinnelig fra Bosnia og Hercegovina\, med videreutdanning i bl.a. velferdsrett og karriereveiledning. Ved Karrieresenter Østfold jobber han både med individuelle veiledninger og forskjellige kurs\, foredrag\, workshop med temaer som flerkulturell veiledning\, etikk og alt om jobbsøking.
URL:https://karriereostfold.no/kurs/utdanningsveier-og-muligheter-webinar/
LOCATION:Digitalt
ATTACH;FMTTYPE=image/jpeg:https://karriereostfold.no/wp-content/uploads/2022/12/webinar-jobbsokerkurs.jpg
END:VEVENT
END:VCALENDAR